BEGIN:VCALENDAR
VERSION:2.0
PRODID:icalendar-ruby
CALSCALE:GREGORIAN
METHOD:PUBLISH
BEGIN:VEVENT
DTSTAMP:20260420T030739Z
UID:58-1851988@oneheartchurch.com.au
DTSTART:20261004T053000Z
DTEND:20261004T063000Z
CLASS:PUBLIC
CREATED:20260420T113758
DESCRIPTION:
LAST-MODIFIED:20260420T113758
LOCATION:31 West Terrace Tumby Bay\, South Australia 5605
SUMMARY:Tumby Bay 4pm Service 
URL;VALUE=URI:https://www.oneheartchurch.com.au/events/tumby-bay-4pm-servic
 e/2026-10-04
ATTACH;FILENAME=Tumby-Bay-Location-Launch---Screen.png;FMTTYPE=image/png:ht
 tps://dq5pwpg1q8ru0.cloudfront.net/2023/05/14/19/12/55/c433424f-d766-41e4-
 9d8b-c5852f5bf317/Tumby-Bay-Location-Launch---Screen.png
END:VEVENT
END:VCALENDAR
